Workbook

Sheet 総括
A1: 様式第７号
B3: 事業者名
B4: 施設名 | E4: 共生型サポート拠点施設
A6: 収支内訳書
A7: １．指定管理料 | K7: （単位：千円）
B8: 提案額（見積額）
B10: 特別養護老人ホーム 桜の園
B11: (1)収入 | M11: （単位：千円）
B12: 項目 | G12: R9年度 | H12: R10年度 | I12: R11年度 | J12: R12年度 | K12: R13年度 | L12: 合計 | M12: 備考
B13: 指定管理料 | G13: ='R9（桜の園）'!$H$9 -> 0 | H13: ='R10（桜の園）'!$H$9 -> 0 | I13: ='R11（桜の園）'!$H$9 -> 0 | J13: ='R12（桜の園）'!$H$9 -> 0 | K13: ='R13（桜の園）'!$H$9 -> 0 | L13: =SUM(G13:K13) -> 0
B14: 小計【ア】 | G14: =G13 -> 0 | H14: =H13 -> 0 | I14: =I13 -> 0 | J14: =J13 -> 0 | K14: =K13 -> 0 | L14: =SUM(G14:K14) -> 0
B15: ='R9（桜の園）'!B10 -> 介護保険事業収入 | G15: ='R9（桜の園）'!$H$10 -> 0 | H15: ='R10（桜の園）'!$H$10 -> 0 | I15: ='R11（桜の園）'!$H$10 -> 0 | J15: ='R12（桜の園）'!$H$10 -> 0 | K15: ='R13（桜の園）'!$H$10 -> 0 | L15: =SUM(G15:K15) -> 0
B16: ='R9（桜の園）'!B18 -> その他の事業収入 | G16: ='R9（桜の園）'!$H$18 -> 0 | H16: ='R10（桜の園）'!$H$18 -> 0 | I16: ='R11（桜の園）'!$H$18 -> 0 | J16: ='R12（桜の園）'!$H$18 -> 0 | K16: ='R13（桜の園）'!$H$18 -> 0 | L16: =SUM(G16:K16) -> 0
B17: ='R9（桜の園）'!B20 -> その他の収入 | G17: ='R9（桜の園）'!$H$20 -> 0 | H17: ='R10（桜の園）'!$H$20 -> 0 | I17: ='R11（桜の園）'!$H$20 -> 0 | J17: ='R12（桜の園）'!$H$20 -> 0 | K17: ='R13（桜の園）'!$H$20 -> 0 | L17: =SUM(G17:K17) -> 0
B18: 小計【イ】 | G18: =SUM(G15:G17) -> 0 | H18: =SUM(H15:H17) -> 0 | I18: =SUM(I15:I17) -> 0 | J18: =SUM(J15:J17) -> 0 | K18: =SUM(K15:K17) -> 0 | L18: =SUM(G18:K18) -> 0
B19: 自主事業による収入 | G19: ='R9（桜の園）'!$H$26 -> 0 | H19: ='R10（桜の園）'!$H$26 -> 0 | I19: ='R11（桜の園）'!$H$26 -> 0 | J19: ='R12（桜の園）'!$H$26 -> 0 | K19: ='R13（桜の園）'!$H$26 -> 0 | L19: =SUM(G19:K19) -> 0
B20: 小計【ウ】 | G20: =SUM(G19) -> 0 | H20: =SUM(H19) -> 0 | I20: =SUM(I19) -> 0 | J20: =SUM(J19) -> 0 | K20: =SUM(K19) -> 0 | L20: =SUM(G20:K20) -> 0
B21: 収入計【ア】～【ウ】 | G21: =SUM(G14,G18,G20) -> 0 | H21: =SUM(H14,H18,H20) -> 0 | I21: =SUM(I14,I18,I20) -> 0 | J21: =SUM(J14,J18,J20) -> 0 | K21: =SUM(K14,K18,K20) -> 0 | L21: =SUM(L14,L18,L20) -> 0
B23: (2)支出 | M23: （単位：千円）
B24: 項目 | G24: R9年度 | H24: R10年度 | I24: R11年度 | J24: R12年度 | K24: R13年度 | L24: 合計 | M24: 備考
B25: ='R9（桜の園）'!B31 -> 人件費 | G25: ='R9（桜の園）'!$H$31 -> 0 | H25: ='R10（桜の園）'!$H$31 -> 0 | I25: ='R11（桜の園）'!$H$31 -> 0 | J25: ='R12（桜の園）'!$H$31 -> 0 | K25: ='R13（桜の園）'!$H$31 -> 0 | L25: =SUM(G25:K25) -> 0
B26: ='R9（桜の園）'!B32 -> 事業費 | G26: ='R9（桜の園）'!$H$32 -> 0 | H26: ='R10（桜の園）'!$H$32 -> 0 | I26: ='R11（桜の園）'!$H$32 -> 0 | J26: ='R12（桜の園）'!$H$32 -> 0 | K26: ='R13（桜の園）'!$H$32 -> 0 | L26: =SUM(G26:K26) -> 0
B27: ='R9（桜の園）'!B33 -> 事務費 | G27: ='R9（桜の園）'!$H$33 -> 0 | H27: ='R10（桜の園）'!$H$33 -> 0 | I27: ='R11（桜の園）'!$H$33 -> 0 | J27: ='R12（桜の園）'!$H$33 -> 0 | K27: ='R13（桜の園）'!$H$33 -> 0 | L27: =SUM(G27:K27) -> 0
B28: ='R9（桜の園）'!B34 -> その他 | G28: ='R9（桜の園）'!$H$34 -> 0 | H28: ='R10（桜の園）'!$H$34 -> 0 | I28: ='R11（桜の園）'!$H$34 -> 0 | J28: ='R12（桜の園）'!$H$34 -> 0 | K28: ='R13（桜の園）'!$H$34 -> 0 | L28: =SUM(G28:K28) -> 0
B29: 小計【エ】 | G29: =SUM(G25:G28) -> 0 | H29: =SUM(H25:H28) -> 0 | I29: =SUM(I25:I28) -> 0 | J29: =SUM(J25:J28) -> 0 | K29: =SUM(K25:K28) -> 0 | L29: =SUM(G29:K29) -> 0 | M29: 指定管理事業費
B30: 自主事業費 | G30: ='R9（桜の園）'!$H$39 -> 0 | H30: ='R10（桜の園）'!$H$39 -> 0 | I30: ='R11（桜の園）'!$H$39 -> 0 | J30: ='R12（桜の園）'!$H$39 -> 0 | K30: ='R13（桜の園）'!$H$39 -> 0 | L30: =SUM(G30:K30) -> 0
B31: 小計【オ】 | G31: =G30 -> 0 | H31: =H30 -> 0 | I31: =I30 -> 0 | J31: =J30 -> 0 | K31: =K30 -> 0 | L31: =SUM(G31:K31) -> 0 | M31: 自主事業費
B32: 支出計 【エ】+【オ】 | G32: =SUM(G29,G31) -> 0 | H32: =SUM(H29,H31) -> 0 | I32: =SUM(I29,I31) -> 0 | J32: =SUM(J29,J31) -> 0 | K32: =SUM(K29,K31) -> 0 | L32: =SUM(G32:K32) -> 0
B34: トータルサポートセンターとみおか
B35: (1)収入 | M35: （単位：千円）
B36: 項目 | G36: R9年度 | H36: R10年度 | I36: R11年度 | J36: R12年度 | K36: R13年度 | L36: 合計 | M36: 備考
B37: 指定管理料 | G37: ='R9 (ｻﾎﾟｾﾝ)'!$H$9 -> 0 | H37: ='R10 (ｻﾎﾟｾﾝ)'!$H$9 -> 0 | I37: ='R11 (ｻﾎﾟｾﾝ)'!$H$9 -> 0 | J37: ='R12 (ｻﾎﾟｾﾝ)'!$H$9 -> 0 | K37: ='R13(ｻﾎﾟｾﾝ)'!$H$9 -> 0 | L37: =SUM(G37:K37) -> 0
B38: 小計【ア】 | G38: =G37 -> 0 | H38: =H37 -> 0 | I38: =I37 -> 0 | J38: =J37 -> 0 | K38: =K37 -> 0 | L38: =SUM(G38:K38) -> 0
B39: その他の事業収入 | G39: ='R9 (ｻﾎﾟｾﾝ)'!$H$10 -> 0 | H39: ='R10 (ｻﾎﾟｾﾝ)'!$H$10 -> 0 | I39: ='R11 (ｻﾎﾟｾﾝ)'!$H$10 -> 0 | J39: ='R12 (ｻﾎﾟｾﾝ)'!$H$10 -> 0 | K39: ='R13(ｻﾎﾟｾﾝ)'!$H$10 -> 0 | L39: =SUM(G39:K39) -> 0
B40: ='R9 (ｻﾎﾟｾﾝ)'!B11 -> その他の活動による収入 | G40: ='R9 (ｻﾎﾟｾﾝ)'!$H$11 -> 0 | H40: ='R10 (ｻﾎﾟｾﾝ)'!$H$11 -> 0 | I40: ='R11 (ｻﾎﾟｾﾝ)'!$H$11 -> 0 | J40: ='R12 (ｻﾎﾟｾﾝ)'!$H$11 -> 0 | K40: ='R13(ｻﾎﾟｾﾝ)'!$H$11 -> 0 | L40: =SUM(G40:K40) -> 0
B41: 小計【イ】 | G41: =SUM(G39:G40) -> 0 | H41: =SUM(H39:H40) -> 0 | I41: =SUM(I39:I40) -> 0 | J41: =SUM(J39:J40) -> 0 | K41: =SUM(K39:K40) -> 0 | L41: =SUM(G41:K41) -> 0
B42: 自主事業による収入 | G42: ='R9 (ｻﾎﾟｾﾝ)'!$H$12 -> 0 | H42: ='R10 (ｻﾎﾟｾﾝ)'!$H$12 -> 0 | I42: ='R11 (ｻﾎﾟｾﾝ)'!$H$12 -> 0 | J42: ='R12 (ｻﾎﾟｾﾝ)'!$H$12 -> 0 | K42: ='R13(ｻﾎﾟｾﾝ)'!$H$12 -> 0 | L42: =SUM(G42:K42) -> 0
B43: 小計【ウ】 | G43: =SUM(G42) -> 0 | H43: =SUM(H42) -> 0 | I43: =SUM(I42) -> 0 | J43: =SUM(J42) -> 0 | K43: =SUM(K42) -> 0 | L43: =SUM(G43:K43) -> 0
B44: 収入計【ア】～【ウ】 | G44: =SUM(G38,G41,G43) -> 0 | H44: =SUM(H38,H41,H43) -> 0 | I44: =SUM(I38,I41,I43) -> 0 | J44: =SUM(J38,J41,J43) -> 0 | K44: =SUM(K38,K41,K43) -> 0 | L44: =SUM(L38,L41,L43) -> 0
B46: (2)支出 | M46: （単位：千円）
...

Sheet R9（桜の園）
A1: 任意様式
B3: 事業者名
B4: 施設名 | E4: 特別養護老人ホーム桜の園
A6: 令和９年度収支内訳書
B7: (1)収入 | I7: （単位：千円）
B8: 項目 | G8: 内容等 | H8: 金額 | I8: 備考
B9: 指定管理料 | F9: (A) | H9: =H38-H10-H18-H20 -> 0 | I9: (F)－(B)－(C)－(D)
B10: 介護保険事業収入 | F10: (B) | H10: =H11+H13+H15 -> 0
C11: 施設介護保険料収入 | H11: =H12 -> 0
D12: 介護保険報酬収入
C13: 居宅介護保険料収入 | H13: =H14 -> 0
D14: 介護報酬収入
C15: 利用者等利用料収入 | H15: =H16+H17 -> 0
D16: 施設理利用料収入
D17: 居宅介護利用料収入
B18: その他の事業収入 | F18: (C) | H18: =SUM(H19:H19) -> 0
C19: 補助金事業収入
B20: その他の収入 | F20: (D) | H20: =SUM(H21:H25) -> 0
B26: 自主事業による収入 | F26: (E)
B27: 施設運営収入計(A)+(B)+(C)+(D)＋(E) | H27: =SUM(H9,H10,H18,H20,H26) -> 0
B29: (2)支出 | I29: （単位：千円）
B30: 項目 | G30: 内容等 | H30: 金額 | I30: 備考
B31: 人件費 | F31: ①
B32: 事業費 | F32: ②
B33: 事務費 | F33: ③
B34: その他 | F34: ④ | H34: =SUM(H35,H36,H37) -> 0
D35: 施設整備等収支差額
D36: その他の活動収支差額
D37: 予備費支出
B38: 指定管理事業費計 | F38: (F) | H38: =SUM(H31,H32,H33,H34,) -> 0 | I38: ①+②+③+④
B39: 自主事業費に係る支出 | F39: (G)
B40: 施設管理経費計 (F)+(G) | H40: =SUM(H38:H39) -> 0
B41: ※金額は、消費税及び地方消費税込みの金額を記載してください

Sheet R10（桜の園）
A1: 任意様式
B3: 事業者名
B4: 施設名 | E4: 特別養護老人ホーム桜の園
A6: 令和９年度収支内訳書
B7: (1)収入 | I7: （単位：千円）
B8: 項目 | G8: 内容等 | H8: 金額 | I8: 備考
B9: 指定管理料 | F9: (A) | H9: =H38-H10-H18-H20 -> 0 | I9: (F)－(B)－(C)－(D)
B10: 介護保険事業収入 | F10: (B) | H10: =H11+H13+H15 -> 0
C11: 施設介護保険料収入 | H11: =H12 -> 0
D12: 介護保険報酬収入
C13: 居宅介護保険料収入 | H13: =H14 -> 0
D14: 介護報酬収入
C15: 利用者等利用料収入 | H15: =H16+H17 -> 0
D16: 施設理利用料収入
D17: 居宅介護利用料収入
B18: その他の事業収入 | F18: (C) | H18: =SUM(H19:H19) -> 0
C19: 補助金事業収入
B20: その他の収入 | F20: (D) | H20: =SUM(H21:H25) -> 0
B26: 自主事業による収入 | F26: (E)
B27: 施設運営収入計(A)+(B)+(C)+(D)＋(E) | H27: =SUM(H9,H10,H18,H20,H26) -> 0
B29: (2)支出 | I29: （単位：千円）
B30: 項目 | G30: 内容等 | H30: 金額 | I30: 備考
B31: 人件費 | F31: ①
B32: 事業費 | F32: ②
B33: 事務費 | F33: ③
B34: その他 | F34: ④ | H34: =SUM(H35,H36,H37) -> 0
D35: 施設整備等収支差額
D36: その他の活動収支差額
D37: 予備費支出
B38: 指定管理事業費計 | F38: (F) | H38: =SUM(H31,H32,H33,H34,) -> 0 | I38: ①+②+③+④
B39: 自主事業費に係る支出 | F39: (G)
B40: 施設管理経費計 (F)+(G) | H40: =SUM(H38:H39) -> 0
B41: ※金額は、消費税及び地方消費税込みの金額を記載してください

Sheet R11（桜の園）
A1: 任意様式
B3: 事業者名
B4: 施設名 | E4: 特別養護老人ホーム桜の園
A6: 令和９年度収支内訳書
B7: (1)収入 | I7: （単位：千円）
B8: 項目 | G8: 内容等 | H8: 金額 | I8: 備考
B9: 指定管理料 | F9: (A) | H9: =H38-H10-H18-H20 -> 0 | I9: (F)－(B)－(C)－(D)
B10: 介護保険事業収入 | F10: (B) | H10: =H11+H13+H15 -> 0
C11: 施設介護保険料収入 | H11: =H12 -> 0
D12: 介護保険報酬収入
C13: 居宅介護保険料収入 | H13: =H14 -> 0
D14: 介護報酬収入
C15: 利用者等利用料収入 | H15: =H16+H17 -> 0
D16: 施設理利用料収入
D17: 居宅介護利用料収入
B18: その他の事業収入 | F18: (C) | H18: =SUM(H19:H19) -> 0
C19: 補助金事業収入
B20: その他の収入 | F20: (D) | H20: =SUM(H21:H25) -> 0
B26: 自主事業による収入 | F26: (E)
B27: 施設運営収入計(A)+(B)+(C)+(D)＋(E) | H27: =SUM(H9,H10,H18,H20,H26) -> 0
B29: (2)支出 | I29: （単位：千円）
B30: 項目 | G30: 内容等 | H30: 金額 | I30: 備考
B31: 人件費 | F31: ①
B32: 事業費 | F32: ②
B33: 事務費 | F33: ③
B34: その他 | F34: ④ | H34: =SUM(H35,H36,H37) -> 0
D35: 施設整備等収支差額
D36: その他の活動収支差額
D37: 予備費支出
B38: 指定管理事業費計 | F38: (F) | H38: =SUM(H31,H32,H33,H34,) -> 0 | I38: ①+②+③+④
B39: 自主事業費に係る支出 | F39: (G)
B40: 施設管理経費計 (F)+(G) | H40: =SUM(H38:H39) -> 0
B41: ※金額は、消費税及び地方消費税込みの金額を記載してください

Sheet R12（桜の園）
A1: 任意様式
B3: 事業者名
B4: 施設名 | E4: 特別養護老人ホーム桜の園
A6: 令和９年度収支内訳書
B7: (1)収入 | I7: （単位：千円）
B8: 項目 | G8: 内容等 | H8: 金額 | I8: 備考
B9: 指定管理料 | F9: (A) | H9: =H38-H10-H18-H20 -> 0 | I9: (F)－(B)－(C)－(D)
B10: 介護保険事業収入 | F10: (B) | H10: =H11+H13+H15 -> 0
C11: 施設介護保険料収入 | H11: =H12 -> 0
D12: 介護保険報酬収入
C13: 居宅介護保険料収入 | H13: =H14 -> 0
D14: 介護報酬収入
C15: 利用者等利用料収入 | H15: =H16+H17 -> 0
D16: 施設理利用料収入
D17: 居宅介護利用料収入
B18: その他の事業収入 | F18: (C) | H18: =SUM(H19:H19) -> 0
C19: 補助金事業収入
B20: その他の収入 | F20: (D) | H20: =SUM(H21:H25) -> 0
B26: 自主事業による収入 | F26: (E)
B27: 施設運営収入計(A)+(B)+(C)+(D)＋(E) | H27: =SUM(H9,H10,H18,H20,H26) -> 0
B29: (2)支出 | I29: （単位：千円）
B30: 項目 | G30: 内容等 | H30: 金額 | I30: 備考
B31: 人件費 | F31: ①
B32: 事業費 | F32: ②
B33: 事務費 | F33: ③
B34: その他 | F34: ④ | H34: =SUM(H35,H36,H37) -> 0
D35: 施設整備等収支差額
D36: その他の活動収支差額
D37: 予備費支出
B38: 指定管理事業費計 | F38: (F) | H38: =SUM(H31,H32,H33,H34,) -> 0 | I38: ①+②+③+④
B39: 自主事業費に係る支出 | F39: (G)
B40: 施設管理経費計 (F)+(G) | H40: =SUM(H38:H39) -> 0
B41: ※金額は、消費税及び地方消費税込みの金額を記載してください

Sheet R13（桜の園）
A1: 任意様式
B3: 事業者名
B4: 施設名 | E4: 特別養護老人ホーム桜の園
A6: 令和９年度収支内訳書
B7: (1)収入 | I7: （単位：千円）
B8: 項目 | G8: 内容等 | H8: 金額 | I8: 備考
B9: 指定管理料 | F9: (A) | H9: =H38-H10-H18-H20 -> 0 | I9: (F)－(B)－(C)－(D)
B10: 介護保険事業収入 | F10: (B) | H10: =H11+H13+H15 -> 0
C11: 施設介護保険料収入 | H11: =H12 -> 0
D12: 介護保険報酬収入
C13: 居宅介護保険料収入 | H13: =H14 -> 0
D14: 介護報酬収入
C15: 利用者等利用料収入 | H15: =H16+H17 -> 0
D16: 施設理利用料収入
D17: 居宅介護利用料収入
B18: その他の事業収入 | F18: (C) | H18: =SUM(H19:H19) -> 0
C19: 補助金事業収入
B20: その他の収入 | F20: (D) | H20: =SUM(H21:H25) -> 0
B26: 自主事業による収入 | F26: (E)
B27: 施設運営収入計(A)+(B)+(C)+(D)＋(E) | H27: =SUM(H9,H10,H18,H20,H26) -> 0
B29: (2)支出 | I29: （単位：千円）
B30: 項目 | G30: 内容等 | H30: 金額 | I30: 備考
B31: 人件費 | F31: ①
B32: 事業費 | F32: ②
B33: 事務費 | F33: ③
B34: その他 | F34: ④ | H34: =SUM(H35,H36,H37) -> 0
D35: 施設整備等収支差額
D36: その他の活動収支差額
D37: 予備費支出
B38: 指定管理事業費計 | F38: (F) | H38: =SUM(H31,H32,H33,H34,) -> 0 | I38: ①+②+③+④
B39: 自主事業費に係る支出 | F39: (G)
B40: 施設管理経費計 (F)+(G) | H40: =SUM(H38:H39) -> 0
B41: ※金額は、消費税及び地方消費税込みの金額を記載してください

Sheet R9 (ｻﾎﾟｾﾝ)
A1: 任意様式
B3: 事業者名
B4: 施設名 | E4: トータルサポートセンターとみおか
A6: 令和９年度収支内訳書
B7: (1)収入 | I7: （単位：千円）
B8: 項目 | G8: 内容等 | H8: 金額 | I8: 備考
B9: 指定管理料 | F9: (A) | H9: =H24-H10-H11-H12 -> 0 | I9: (E)－(B)－(C)－(D)
B10: その他の事業収入 | F10: (B)
B11: その他の活動による収入 | F11: (C)
B12: 自主事業による収入 | F12: (D)
B13: 施設運営収入計(A)+(B)+(C)+(D) | H13: =SUM(H9,H10,H11,H12) -> 0
B15: (2)支出 | I15: （単位：千円）
B16: 項目 | G16: 内容等 | H16: 金額 | I16: 備考
B17: 人件費 | F17: ①
B18: 事業費 | F18: ②
B19: 事務費 | F19: ③
B20: その他 | F20: ④ | H20: =SUM(H21,H22,H23) -> 0
D21: 施設整備等収支差額
D22: その他の活動収支差額
D23: 予備費支出
B24: 指定管理事業費計 | F24: (E) | H24: =SUM(H17,H18,H19,H20,) -> 0 | I24: ①+②+③+④
B25: 自主事業費に係る支出 | F25: (F)
B26: 施設管理経費計 (E)+(F) | H26: =SUM(H24:H25) -> 0
B27: ※金額は、消費税及び地方消費税込みの金額を記載してください

Sheet R10 (ｻﾎﾟｾﾝ)
A1: 任意様式
B3: 事業者名
B4: 施設名 | E4: トータルサポートセンターとみおか
A6: 令和９年度収支内訳書
B7: (1)収入 | I7: （単位：千円）
B8: 項目 | G8: 内容等 | H8: 金額 | I8: 備考
B9: 指定管理料 | F9: (A) | H9: =H24-H10-H11-H12 -> 0 | I9: (E)－(B)－(C)－(D)
B10: その他の事業収入 | F10: (B)
B11: その他の活動による収入 | F11: (C)
B12: 自主事業による収入 | F12: (D)
B13: 施設運営収入計(A)+(B)+(C)+(D) | H13: =SUM(H9,H10,H11,H12) -> 0
B15: (2)支出 | I15: （単位：千円）
B16: 項目 | G16: 内容等 | H16: 金額 | I16: 備考
B17: 人件費 | F17: ①
B18: 事業費 | F18: ②
B19: 事務費 | F19: ③
B20: その他 | F20: ④ | H20: =SUM(H21,H22,H23) -> 0
D21: 施設整備等収支差額
D22: その他の活動収支差額
D23: 予備費支出
B24: 指定管理事業費計 | F24: (E) | H24: =SUM(H17,H18,H19,H20,) -> 0 | I24: ①+②+③+④
B25: 自主事業費に係る支出 | F25: (F)
B26: 施設管理経費計 (E)+(F) | H26: =SUM(H24:H25) -> 0
B27: ※金額は、消費税及び地方消費税込みの金額を記載してください

Sheet R11 (ｻﾎﾟｾﾝ)
A1: 任意様式
B3: 事業者名
B4: 施設名 | E4: トータルサポートセンターとみおか
A6: 令和９年度収支内訳書
B7: (1)収入 | I7: （単位：千円）
B8: 項目 | G8: 内容等 | H8: 金額 | I8: 備考
B9: 指定管理料 | F9: (A) | H9: =H24-H10-H11-H12 -> 0 | I9: (E)－(B)－(C)－(D)
B10: その他の事業収入 | F10: (B)
B11: その他の活動による収入 | F11: (C)
B12: 自主事業による収入 | F12: (D)
B13: 施設運営収入計(A)+(B)+(C)+(D) | H13: =SUM(H9,H10,H11,H12) -> 0
B15: (2)支出 | I15: （単位：千円）
B16: 項目 | G16: 内容等 | H16: 金額 | I16: 備考
B17: 人件費 | F17: ①
B18: 事業費 | F18: ②
B19: 事務費 | F19: ③
B20: その他 | F20: ④ | H20: =SUM(H21,H22,H23) -> 0
D21: 施設整備等収支差額
D22: その他の活動収支差額
D23: 予備費支出
B24: 指定管理事業費計 | F24: (E) | H24: =SUM(H17,H18,H19,H20,) -> 0 | I24: ①+②+③+④
B25: 自主事業費に係る支出 | F25: (F)
B26: 施設管理経費計 (E)+(F) | H26: =SUM(H24:H25) -> 0
B27: ※金額は、消費税及び地方消費税込みの金額を記載してください

Sheet R12 (ｻﾎﾟｾﾝ)
A1: 任意様式
B3: 事業者名
B4: 施設名 | E4: トータルサポートセンターとみおか
A6: 令和９年度収支内訳書
B7: (1)収入 | I7: （単位：千円）
B8: 項目 | G8: 内容等 | H8: 金額 | I8: 備考
B9: 指定管理料 | F9: (A) | H9: =H24-H10-H11-H12 -> 0 | I9: (E)－(B)－(C)－(D)
B10: その他の事業収入 | F10: (B)
B11: その他の活動による収入 | F11: (C)
B12: 自主事業による収入 | F12: (D)
B13: 施設運営収入計(A)+(B)+(C)+(D) | H13: =SUM(H9,H10,H11,H12) -> 0
B15: (2)支出 | I15: （単位：千円）
B16: 項目 | G16: 内容等 | H16: 金額 | I16: 備考
B17: 人件費 | F17: ①
B18: 事業費 | F18: ②
B19: 事務費 | F19: ③
B20: その他 | F20: ④ | H20: =SUM(H21,H22,H23) -> 0
D21: 施設整備等収支差額
D22: その他の活動収支差額
D23: 予備費支出
B24: 指定管理事業費計 | F24: (E) | H24: =SUM(H17,H18,H19,H20,) -> 0 | I24: ①+②+③+④
B25: 自主事業費に係る支出 | F25: (F)
B26: 施設管理経費計 (E)+(F) | H26: =SUM(H24:H25) -> 0
B27: ※金額は、消費税及び地方消費税込みの金額を記載してください

Sheet R13(ｻﾎﾟｾﾝ)
A1: 任意様式
B3: 事業者名
B4: 施設名 | E4: トータルサポートセンターとみおか
A6: 令和９年度収支内訳書
B7: (1)収入 | I7: （単位：千円）
B8: 項目 | G8: 内容等 | H8: 金額 | I8: 備考
B9: 指定管理料 | F9: (A) | H9: =H24-H10-H11-H12 -> 0 | I9: (E)－(B)－(C)－(D)
B10: その他の事業収入 | F10: (B)
B11: その他の活動による収入 | F11: (C)
B12: 自主事業による収入 | F12: (D)
B13: 施設運営収入計(A)+(B)+(C)+(D) | H13: =SUM(H9,H10,H11,H12) -> 0
B15: (2)支出 | I15: （単位：千円）
B16: 項目 | G16: 内容等 | H16: 金額 | I16: 備考
B17: 人件費 | F17: ①
B18: 事業費 | F18: ②
B19: 事務費 | F19: ③
B20: その他 | F20: ④ | H20: =SUM(H21,H22,H23) -> 0
D21: 施設整備等収支差額
D22: その他の活動収支差額
D23: 予備費支出
B24: 指定管理事業費計 | F24: (E) | H24: =SUM(H17,H18,H19,H20,) -> 0 | I24: ①+②+③+④
B25: 自主事業費に係る支出 | F25: (F)
B26: 施設管理経費計 (E)+(F) | H26: =SUM(H24:H25) -> 0
B27: ※金額は、消費税及び地方消費税込みの金額を記載してください
